BEGIN:VCALENDAR
VERSION:2.0
PRODID:-//Steven Morgan - ECPv6.15.20//NONSGML v1.0//EN
CALSCALE:GREGORIAN
METHOD:PUBLISH
X-ORIGINAL-URL:https://stevenmorgan.wales
X-WR-CALDESC:Events for Steven Morgan
REFRESH-INTERVAL;VALUE=DURATION:PT1H
X-Robots-Tag:noindex
X-PUBLISHED-TTL:PT1H
BEGIN:VTIMEZONE
TZID:Europe/Amsterdam
BEGIN:DAYLIGHT
TZOFFSETFROM:+0100
TZOFFSETTO:+0200
TZNAME:CEST
DTSTART:20230326T010000
END:DAYLIGHT
BEGIN:STANDARD
TZOFFSETFROM:+0200
TZOFFSETTO:+0100
TZNAME:CET
DTSTART:20231029T010000
END:STANDARD
BEGIN:DAYLIGHT
TZOFFSETFROM:+0100
TZOFFSETTO:+0200
TZNAME:CEST
DTSTART:20240331T010000
END:DAYLIGHT
BEGIN:STANDARD
TZOFFSETFROM:+0200
TZOFFSETTO:+0100
TZNAME:CET
DTSTART:20241027T010000
END:STANDARD
BEGIN:DAYLIGHT
TZOFFSETFROM:+0100
TZOFFSETTO:+0200
TZNAME:CEST
DTSTART:20250330T010000
END:DAYLIGHT
BEGIN:STANDARD
TZOFFSETFROM:+0200
TZOFFSETTO:+0100
TZNAME:CET
DTSTART:20251026T010000
END:STANDARD
END:VTIMEZONE
BEGIN:VEVENT
DTSTART;TZID=Europe/Amsterdam:20240202T200000
DTEND;TZID=Europe/Amsterdam:20240202T223000
DTSTAMP:20260421T021624
CREATED:20240131T141106Z
LAST-MODIFIED:20240131T141117Z
UID:2347-1706904000-1706913000@stevenmorgan.wales
SUMMARY:Mezrab Friday Night Storytelling
DESCRIPTION:Every Friday we pick the world’s finest storytellers to tell true\, mythical\, fabulous and comedic stories. Sometimes there is music\, sometimes not \n\n—————\nThese are our most popular nights and it can get very crowded. If you want to avoid big crowds\, please choose one of our other storytelling nights every Tuesday and Wednesday.\nDoors open at 19.00\nEvent starts at 20.00\nSoup? YES!\nEntrance: Donation based\nLanguage: English
URL:https://stevenmorgan.wales/event/mezrab-friday-night-storytelling/
LOCATION:Mezrab\, Veemkade 576\, Amsterdam\, North Holland\, 1019 BL\, Netherlands
CATEGORIES:Storytelling
ATTACH;FMTTYPE=image/jpeg:https://stevenmorgan.wales/wp-content/uploads/2024/01/Mezrab.jpg
ORGANIZER;CN="Mezrab":MAILTO:info@mezrab.nl
END:VEVENT
END:VCALENDAR