BEGIN:VCALENDAR
VERSION:2.0
PRODID:-//Steven Morgan - ECPv6.15.20//NONSGML v1.0//EN
CALSCALE:GREGORIAN
METHOD:PUBLISH
X-WR-CALNAME:Steven Morgan
X-ORIGINAL-URL:https://stevenmorgan.wales
X-WR-CALDESC:Events for Steven Morgan
REFRESH-INTERVAL;VALUE=DURATION:PT1H
X-Robots-Tag:noindex
X-PUBLISHED-TTL:PT1H
BEGIN:VTIMEZONE
TZID:Europe/Amsterdam
BEGIN:DAYLIGHT
TZOFFSETFROM:+0100
TZOFFSETTO:+0200
TZNAME:CEST
DTSTART:20230326T010000
END:DAYLIGHT
BEGIN:STANDARD
TZOFFSETFROM:+0200
TZOFFSETTO:+0100
TZNAME:CET
DTSTART:20231029T010000
END:STANDARD
BEGIN:DAYLIGHT
TZOFFSETFROM:+0100
TZOFFSETTO:+0200
TZNAME:CEST
DTSTART:20240331T010000
END:DAYLIGHT
BEGIN:STANDARD
TZOFFSETFROM:+0200
TZOFFSETTO:+0100
TZNAME:CET
DTSTART:20241027T010000
END:STANDARD
BEGIN:DAYLIGHT
TZOFFSETFROM:+0100
TZOFFSETTO:+0200
TZNAME:CEST
DTSTART:20250330T010000
END:DAYLIGHT
BEGIN:STANDARD
TZOFFSETFROM:+0200
TZOFFSETTO:+0100
TZNAME:CET
DTSTART:20251026T010000
END:STANDARD
BEGIN:DAYLIGHT
TZOFFSETFROM:+0100
TZOFFSETTO:+0200
TZNAME:CEST
DTSTART:20260329T010000
END:DAYLIGHT
BEGIN:STANDARD
TZOFFSETFROM:+0200
TZOFFSETTO:+0100
TZNAME:CET
DTSTART:20261025T010000
END:STANDARD
BEGIN:DAYLIGHT
TZOFFSETFROM:+0100
TZOFFSETTO:+0200
TZNAME:CEST
DTSTART:20270328T010000
END:DAYLIGHT
BEGIN:STANDARD
TZOFFSETFROM:+0200
TZOFFSETTO:+0100
TZNAME:CET
DTSTART:20271031T010000
END:STANDARD
END:VTIMEZONE
BEGIN:VEVENT
DTSTART;TZID=Europe/Amsterdam:20241219T200000
DTEND;TZID=Europe/Amsterdam:20241219T230000
DTSTAMP:20260420T171929
CREATED:20241204T110530Z
LAST-MODIFIED:20241204T110530Z
UID:2619-1734638400-1734649200@stevenmorgan.wales
SUMMARY:Oh My Word Comedy
DESCRIPTION:OH MY WORD standup comedy nights feature a dazzling array of English-speaking comedians based in the Netherlands and beyond\, plus good vibes\, frosty beverages\, and damned good pizza at a cosy bar in Amsterdam’s Bos en Lommer neighbourhood.
URL:https://stevenmorgan.wales/event/oh-my-word-comedy/
LOCATION:bij Barba\, Jan van Galenstraat 198\, Amsterdam\, North Holland\, 1056 CK\, Netherlands
CATEGORIES:Standup Comedy Show
ATTACH;FMTTYPE=image/png:https://stevenmorgan.wales/wp-content/uploads/2024/12/Oh-My-Word-Comedy.png
END:VEVENT
BEGIN:VEVENT
DTSTART;TZID=Europe/Amsterdam:20250208T203000
DTEND;TZID=Europe/Amsterdam:20250208T230000
DTSTAMP:20260420T171929
CREATED:20250120T131328Z
LAST-MODIFIED:20250120T131328Z
UID:2652-1739046600-1739055600@stevenmorgan.wales
SUMMARY:All English Comedy Night - Comedyhuis Utrecht
DESCRIPTION:Stand-up comedy was invented in the English language and on this night comedy… is coming home. During the All English Comedy Night the Comedyhuis invites the finest English-speaking stand-up comedians to perform for you and present their unique views on The Netherlands and the Dutch. Come join us for a fantastic night out featuring the most talented international artists from all over Europe and the world. \nThe line-up can change at the last moment. Please keep an eye on our social media for the latest version. \nInterested in learning comedy yourself? Join our English Comedy Courses and discover your comedic voice! \nDon’t miss the highlight of the year: the Utrecht International Comedy Festival \, featuring top comedians from around the globe. \nAnd make sure to grab your tickets for the hilarious Big Binge of Comedy \, where the best stand-up acts come together for an unforgettable evening! \n\n\n\nComedians\n\n\nSteven Morgan
URL:https://stevenmorgan.wales/event/all-english-comedy-night-3/
LOCATION:Theaterschool Utrecht\, Domplein 4\, Utrecht\, Utrecht\, 3512 JC\, Netherlands
CATEGORIES:Standup Comedy Show
ATTACH;FMTTYPE=image/jpeg:https://stevenmorgan.wales/wp-content/uploads/2025/01/Emma-Pot_Utrecht-International-Comedy-Festival_LR-96-uai-720x540-1.jpg
ORGANIZER;CN="Comedyhuis":MAILTO:info@comedyhuis.nl
END:VEVENT
BEGIN:VEVENT
DTSTART;TZID=Europe/Amsterdam:20250301T203000
DTEND;TZID=Europe/Amsterdam:20250301T223000
DTSTAMP:20260420T171929
CREATED:20250113T154638Z
LAST-MODIFIED:20250113T154638Z
UID:2646-1740861000-1740868200@stevenmorgan.wales
SUMMARY:Paisan Mediterranean Kitchen
DESCRIPTION:Comedy night at Paisan Mediterranean Kitchen join us for some amazing food and a great evening of comedy! 4 hilarious comedians will make you laugh till you cry\, and after the comedy the bar will be open so you can enjoy a great after party! #standupcomedy #expatsinthenetherlands #hilversum #expatshilversum #goingout #nightout
URL:https://stevenmorgan.wales/event/paisan-mediterranean-kitchen/
LOCATION:Paisan Mediterranean Kitchen\, 's-Gravelandseweg 46\,\, Hilversum\, North Holland\, 1211 BT\, Netherlands
CATEGORIES:Standup Comedy Show
END:VEVENT
BEGIN:VEVENT
DTSTART;TZID=Europe/Amsterdam:20260307T203000
DTEND;TZID=Europe/Amsterdam:20260307T230000
DTSTAMP:20260420T171929
CREATED:20260214T201554Z
LAST-MODIFIED:20260214T201554Z
UID:2833-1772915400-1772924400@stevenmorgan.wales
SUMMARY:All English Comedy Night - Comedyhuis Utrecht
DESCRIPTION:Stand-up comedy was invented in the English language and on this night comedy… is coming home. During the All English Comedy Night the Comedyhuis invites the finest English-speaking stand-up comedians to perform for you and present their unique views on The Netherlands and the Dutch. Come join us for a fantastic night out featuring the most talented international artists from all over Europe and the world. \nThe line-up can change at the last moment. Please keep an eye on our social media for the latest version. \nInterested in learning comedy yourself? Join our English Comedy Courses and discover your comedic voice! \nDon’t miss the highlight of the year: the Utrecht International Comedy Festival \, featuring top comedians from around the globe. \nAnd make sure to grab your tickets for the hilarious Big Binge of Comedy \, where the best stand-up acts come together for an unforgettable evening! \n\n\n\nComedians\n\n\nSteven Morgan
URL:https://stevenmorgan.wales/event/all-english-comedy-night-4/
LOCATION:De Kargadoor\, Oudegracht 36\, Utrecht\, Utrecht\, 3511 AP\, Netherlands
CATEGORIES:Standup Comedy Show
ATTACH;FMTTYPE=image/jpeg:https://stevenmorgan.wales/wp-content/uploads/2025/01/Emma-Pot_Utrecht-International-Comedy-Festival_LR-96-uai-720x540-1.jpg
ORGANIZER;CN="Comedyhuis":MAILTO:info@comedyhuis.nl
END:VEVENT
BEGIN:VEVENT
DTSTART;TZID=Europe/Amsterdam:20260416T200000
DTEND;TZID=Europe/Amsterdam:20260416T223000
DTSTAMP:20260420T171929
CREATED:20260329T192427Z
LAST-MODIFIED:20260329T192525Z
UID:2851-1776369600-1776378600@stevenmorgan.wales
SUMMARY:Comedy On Tap
DESCRIPTION:Get ready for an unforgettable night of laughter right in the heart of Utrecht! Whether you are a fan of quick-witted\, unscripted scenes or sharply crafted jokes\, Comedy on Tap brings you the very best of both worlds in one fantastic double-bill event. Join us upstairs at The Florin for a brilliant evening of entertainment that is guaranteed to chase away the weekday blues. \nThe Essential Details \n\n\nDate: Thursday\, 16th April 2026 \n\n\nTime: Doors open at 19:45 | Show runs from 20:00 to approximately 22:30 \n\n\nVenue: Upstairs at The Florin\, Nobelstraat 4\, 3512EN UTRECHT \n\n\nTickets: Secure your seats right here! \n\n\n\nWhat to Expect on the Night\nAct One: Improv on Tap We kick off the night at 20:00 sharp with a warm welcome from your Master of Ceremonies\, Steven Morgan. After getting the room warmed up and buzzing\, he will hand the stage over to our fantastic in-house troupe\, Improv on Tap. Featuring the brilliant comedic minds of Herre\, Cait\, Lisanne\, Kaisa\, and Arwen\, this half of the show is entirely unscripted. Expect high-energy games\, spontaneous characters\, and hilarious scenes built entirely from your suggestions. No two shows are ever the same! \nThe Interval. At around 21:00\, we will take a brief 15-minute breather. This is your chance to stretch your legs\, head downstairs to The Florin’s wonderful bar to grab a pint or a cocktail\, and chat about your favourite moments from the first half. \nAct Two: Stand-Up Showcase Once everyone is settled back into their seats with fresh drinks\, the second half of the evening shifts gears into a classic stand-up comedy club vibe. Steven Morgan takes the mic once more to guide you through a curated line-up of stellar stand-up talent. We are thrilled to feature sets from: \n\n\nElina * Val * Plus a special guest to be announced! \n\n\nSit back and enjoy a rapid-fire succession of unique comedic voices and perfectly polished punchlines. \nThe Venue & Atmosphere\nWe host our shows in the cosy upstairs room at The Florin\, creating an intimate\, welcoming atmosphere that is absolutely perfect for live comedy. Capacity is limited to just 55 seats\, ensuring every audience member feels like part of the action. \nBecause it is a school night\, we aim to wrap the show up by 22:30. However\, the fun does not have to stop there; you are more than welcome to stick around and enjoy a final drink with the acts in the downstairs bar before heading home. \nTickets are strictly limited\, so please book in advance to avoid disappointment. We cannot wait to see you there for a pint and a laugh!
URL:https://stevenmorgan.wales/event/comedy-on-tap/
LOCATION:The Florin\, Nobelstraat 2\, Utrecht\, Utrecht\, 3512 EN\, Netherlands
CATEGORIES:Standup Comedy Show
ATTACH;FMTTYPE=image/jpeg:https://stevenmorgan.wales/wp-content/uploads/2025/03/The-Florin.jpg
ORGANIZER;CN="Comedy On Tap":MAILTO:florincomedy@gmail.com
END:VEVENT
BEGIN:VEVENT
DTSTART;TZID=Europe/Amsterdam:20260502T204500
DTEND;TZID=Europe/Amsterdam:20260502T220000
DTSTAMP:20260420T171929
CREATED:20260420T131550Z
LAST-MODIFIED:20260420T131550Z
UID:2856-1777754700-1777759200@stevenmorgan.wales
SUMMARY:The Haters' Ball - All English Comedy Night
DESCRIPTION:Welcome to the Haters’ Ball: A Descent into Dark Comedy\nUtrecht is a city celebrated for its stunning medieval architecture\, serene canals\, and famously polite society. It is a place where bicycles gently rattle over cobblestones\, and locals sip coffee in picturesque cafes. However\, there is a distinct undercurrent of rebellion bubbling beneath the surface\, waiting for the sun to set. Leave your polite sensibilities at the door and prepare yourself for an evening of spectacular savagery. \nWelcome to the Haters’ Ball. This is not just another pleasant night out; it is the most notorious\, unrelenting\, and side-splittingly brutal night of stand-up comedy in the entire city. Hosted by the legendary Comedyhuis\, this strictly All English Comedy Night takes the traditional stand-up format\, tears it to shreds\, and dances on the remains. \nThe Venue: The Underbelly of Utrecht\nSituated at the iconic Oudegracht 36\, the venue itself provides the perfect backdrop for this descent into comedic madness. Deep within the historic wharf cellars of the city centre\, the arched brick ceilings create an incredibly intimate\, almost gladiatorial arena. The acoustics are designed to capture every gasp\, every shock\, and every roaring wave of laughter. \nWhen the lights go down in this subterranean cavern\, the outside world and all its rules of etiquette simply vanish. What replaces them is a raw\, electric atmosphere where the only currency that matters is how hard you can make the room laugh\, usually at someone else’s expense. \nThe Art of the Roast: Where Nothing is Sacred\nThe Haters’ Ball is entirely dedicated to the time-honoured art of the roast. For the uninitiated\, a roast is a unique comedic discipline where the usual rules of polite engagement are entirely suspended. It is a celebration of sharp-tongued insults\, unapologetically dark humour\, and the kind of razor-sharp wit that leaves a mark. \nWhile modern entertainment can sometimes feel overly cautious or sanitised\, this particular event serves as a magnificent antidote. It is a place where comedians are actively encouraged to cross the line\, find the line again\, and then obliterate it completely. This night is about celebrating the sheer\, wicked joy of a perfectly crafted verbal takedown. \nGladiators of Grief: The Line-up\nOf course\, pulling off a successful night of relentless insults requires an exceptionally high calibre of talent. For this special edition\, Comedyhuis is bringing together a fiercely talented roster of top-tier international comedians. These are seasoned professionals who have honed their craft in comedy clubs across the globe\, from the bustling circuits of London and Edinburgh to the vibrant scenes of New York and Sydney. \nHowever\, the Haters’ Ball demands something entirely different from their usual polished routines. Instead of delivering their tried-and-tested observational humour or charming personal anecdotes\, these comedians will be turning their formidable talents against one another. \nPicture a stage filled with comedic heavyweights trading barbs\, dissecting each other’s flaws\, and finding the most hilariously cruel ways to take their peers down a notch. It is a psychological battle of wits where no topic is off-limits and no ego is spared. You will witness comedians picking apart their colleagues’ appearances\, career choices\, personal lives\, and deepest insecurities\, all in the name of entertainment. The beauty of this format lies in the contrast between the viciousness of the words and the underlying mutual respect required to deliver them. It takes a remarkable amount of trust and camaraderie for comedians to verbally destroy each other so thoroughly\, making the resulting laughter all the more genuine and infectious. \nFront Row Folly: A Warning to the Brave\nThe danger does not stop at the edge of the stage. A crucial element of the Haters’ Ball is its thrilling unpredictability\, and that includes the audience. If you are brave enough to purchase a ticket\, you must understand the risks involved\, particularly if you choose to sit in the front row. \nThe front row at this event is essentially the comedic equivalent of a splash zone. While the comedians will spend plenty of time roasting each other\, they are always looking for fresh meat. A rogue haircut\, an unusual outfit\, or simply making eye contact at the wrong moment could instantly make you the target of a masterfully crafted insult. Sitting near the stage requires a thick skin and a willingness to become part of the show. It is a fast-paced\, high-energy environment where the performers feed off the tension and reactions of the crowd. \nIf you are singled out\, the best course of action is to simply laugh along and appreciate the immense skill it takes to construct a joke at your expense in real time. Naturally\, if you prefer to observe the carnage from a safe distance\, there are plenty of seats further back where you can enjoy the show without the fear of becoming the punchline. \n\nEssential Event Information\nTo ensure you are fully prepared for the chaos\, please keep the following details in mind before securing your tickets: \n\n\nContent Warning: This show contains incredibly adult themes\, colourful language\, and unapologetically dark humour. It is strictly not for the easily offended. \n\n\nThe Vibe: Fast-paced\, high-energy\, and completely ruthless. \n\n\nLocation: Comedyhuis\, Oudegracht 36\, Utrecht. \n\n\nLanguage: The entire performance will be conducted in English. \n\n\nDynamic Line-up: The world of live comedy is unpredictable. The line-up of international acts can change at the very last moment due to touring schedules or surprise drop-ins. \n\n\nUpdates: For the absolute latest news\, announcements\, and final line-up confirmations\, you are strongly advised to keep a close eye on the official Comedyhuis social media channels. \n\n\nThe Final Verdict\nUltimately\, the Haters’ Ball is more than just a comedy show; it is an unforgettable\, cathartic experience. It is a rare opportunity to gather in a dark room with strangers and laugh uproariously at the darkest\, most forbidden thoughts we all secretly harbour. It is a celebration of language\, timing\, and the incredible resilience of the human spirit when faced with a brilliantly constructed joke. \nGather your bravest friends\, prepare your absolute best defensive laughter\, and head down to the cellars of the Oudegracht. It is time to embrace the chaos\, revel in the insults\, and experience the very best of the worst that comedy has to offer.
URL:https://stevenmorgan.wales/event/the-haters-ball-comedy-show/
LOCATION:De Kargadoor\, Oudegracht 36\, Utrecht\, Utrecht\, 3511 AP\, Netherlands
CATEGORIES:Standup Comedy Show
ATTACH;FMTTYPE=image/jpeg:https://stevenmorgan.wales/wp-content/uploads/2025/01/Emma-Pot_Utrecht-International-Comedy-Festival_LR-96-uai-720x540-1.jpg
ORGANIZER;CN="Comedyhuis":MAILTO:info@comedyhuis.nl
END:VEVENT
END:VCALENDAR